BEGIN:VCALENDAR
VERSION:2.0
PRODID:-//Nurturing Minds Training Center - ECPv6.15.20//NONSGML v1.0//EN
CALSCALE:GREGORIAN
METHOD:PUBLISH
X-ORIGINAL-URL:https://nurturingkyminds.com
X-WR-CALDESC:Events for Nurturing Minds Training Center
REFRESH-INTERVAL;VALUE=DURATION:PT1H
X-Robots-Tag:noindex
X-PUBLISHED-TTL:PT1H
BEGIN:VTIMEZONE
TZID:America/Chicago
BEGIN:DAYLIGHT
TZOFFSETFROM:-0600
TZOFFSETTO:-0500
TZNAME:CDT
DTSTART:20240310T080000
END:DAYLIGHT
BEGIN:STANDARD
TZOFFSETFROM:-0500
TZOFFSETTO:-0600
TZNAME:CST
DTSTART:20241103T070000
END:STANDARD
BEGIN:DAYLIGHT
TZOFFSETFROM:-0600
TZOFFSETTO:-0500
TZNAME:CDT
DTSTART:20250309T080000
END:DAYLIGHT
BEGIN:STANDARD
TZOFFSETFROM:-0500
TZOFFSETTO:-0600
TZNAME:CST
DTSTART:20251102T070000
END:STANDARD
BEGIN:DAYLIGHT
TZOFFSETFROM:-0600
TZOFFSETTO:-0500
TZNAME:CDT
DTSTART:20260308T080000
END:DAYLIGHT
BEGIN:STANDARD
TZOFFSETFROM:-0500
TZOFFSETTO:-0600
TZNAME:CST
DTSTART:20261101T070000
END:STANDARD
END:VTIMEZONE
BEGIN:VEVENT
DTSTART;TZID=America/Chicago:20250717T090000
DTEND;TZID=America/Chicago:20250912T160000
DTSTAMP:20260420T102550
CREATED:20241201T174412Z
LAST-MODIFIED:20250519T164503Z
UID:193-1752742800-1757692800@nurturingkyminds.com
SUMMARY:Certified Medication Aide (CMA)
DESCRIPTION:Certified Medication Aide is a 9 week program\, followed by a mandatory 60 hours preceptorship upon completion of course hours. \nMandatory Orientation: June 25th\, 10am-12pm \nClass Schedule: Thursdays & Fridays 9am-4pm \nThis program is approved by both KBN and Kentucky Commission on Proprietary Education \, we are one of the top local schools because we provide quality education by professional licensed educators who are here to guide students and get a jump start on their careers into healthcare. \nClass Includes: \n\nConvenient Location\nAffordable Tuition\nPayment Plans & Financial Assistance\nFree Uniform & Textbooks\nHands-on Training\nState Test Fee ( 1 attempt)\n\n 
URL:https://nurturingkyminds.com/class/certified-medication-aide-cma/
LOCATION:Florence Location\, 75 Cavalier Blvd Suite 208\, Florence\, KY\, 41042\, United States
CATEGORIES:Certified Medication Aide (CMA)
ATTACH;FMTTYPE=image/jpeg:https://nurturingkyminds.com/wp-content/uploads/2023/08/opengraph.jpg
ORGANIZER;CN="Nurturing Minds Trainings":MAILTO:shawnian@nurturingmindstrainings.com
END:VEVENT
END:VCALENDAR